BEGIN:VCALENDAR
VERSION:2.0
PRODID:-//FENASCOP - ECPv6.7.0//NONSGML v1.0//EN
CALSCALE:GREGORIAN
METHOD:PUBLISH
X-WR-CALNAME:FENASCOP
X-ORIGINAL-URL:https://www.fenascop.it
X-WR-CALDESC:Eventi per FENASCOP
REFRESH-INTERVAL;VALUE=DURATION:PT1H
X-Robots-Tag:noindex
X-PUBLISHED-TTL:PT1H
BEGIN:VTIMEZONE
TZID:UTC
BEGIN:STANDARD
TZOFFSETFROM:+0000
TZOFFSETTO:+0000
TZNAME:UTC
DTSTART:20190101T000000
END:STANDARD
END:VTIMEZONE
BEGIN:VEVENT
DTSTART;TZID=UTC:20190329T083000
DTEND;TZID=UTC:20190330T154500
DTSTAMP:20260425T030525
CREATED:20190204T101949Z
LAST-MODIFIED:20190326T081325Z
UID:14978-1553848200-1553960700@www.fenascop.it
SUMMARY:APPROCCI all'AUTISMO a CONFRONTO
DESCRIPTION:L’Associazione ARS Diapason organizza il Convegno \n“APPROCCI ALL’AUTISMO A CONFRONTO”\n“ASSOCIAZIONE CENTRO STUDI PER LA SALUTE\, IL BENESSERE\, LO SVILUPPO ARMONICO DELL’INDIVIDUO E DELLE COMUNITA’ NELL’AMBIENTE”\nIl convegno si terrà a Torino \n– il 29 marzo presso Palazzo Lascaris -sede del Consiglio Regionale del Piemonte\, Via Alfieri 15 \n                                                                                            -il 30 marzo presso il Liceo Classico M. d ’Azeglio\, Via G. Parini\, 8 \nil convegno è accreditato per 9 crediti ECM delle professioni: \nMedico\, Psicologo e Psicoterapeuta\, Educatore\, Infermiere\, Assistente Sanitario\, Fisioterapista\, Tecnico delle Riabilitazione Psichiatrica\, Terapista occupazionale \n(Siamo in attesa di confermare l’accreditamento per   Logopedista e Tecnico delle Psiconeuromotricità) \nscarica il programma completo \nCONVEGNO AUTISMO 29 – 30 marzo 2019 PROGRAMMA\nSi prega di iscriversi compilando il format sottostante in tutte le sue parti\,  \neffettuare il pagamento della quota di iscrizione e inviare  la ricevuta del bonifico alla mail info@arsdiapason.org \nSoci ARSDiapason …………………………………… 70\,00 euro IVA compresa \nStudenti ………………………………………………….30\,00 euro IVA compresa \nAltri…………………….………………………………  120\,00 euro IVA compresa \n 
URL:https://www.fenascop.it/event/approcci-allautismo-a-confronto/
LOCATION:Palazzo Lascaris\, Via Alfieri 15\, Torino\, 10100
ORGANIZER;CN="Associazione ARS Diapason":MAILTO:info@arsdiapason.org
END:VEVENT
END:VCALENDAR