BEGIN:VCALENDAR
VERSION:2.0
PRODID:-//FENASCOP - ECPv6.7.0//NONSGML v1.0//EN
CALSCALE:GREGORIAN
METHOD:PUBLISH
X-WR-CALNAME:FENASCOP
X-ORIGINAL-URL:https://www.fenascop.it
X-WR-CALDESC:Eventi per FENASCOP
REFRESH-INTERVAL;VALUE=DURATION:PT1H
X-Robots-Tag:noindex
X-PUBLISHED-TTL:PT1H
BEGIN:VTIMEZONE
TZID:UTC
BEGIN:STANDARD
TZOFFSETFROM:+0000
TZOFFSETTO:+0000
TZNAME:UTC
DTSTART:20230101T000000
END:STANDARD
END:VTIMEZONE
BEGIN:VEVENT
DTSTART;TZID=UTC:20230525T091500
DTEND;TZID=UTC:20230526T134000
DTSTAMP:20260424T205407
CREATED:20230424T151031Z
LAST-MODIFIED:20230524T143011Z
UID:16780-1685006100-1685108400@www.fenascop.it
SUMMARY:Modus Convegno Regionale sui Disturbi di Personalità
DESCRIPTION:Per celebrare il trentennale della sua fondazione\, FENASCOP crea un confronto sui temi della Salute Mentale\, offrendo un importante appuntamento in Sicilia nei giorni del 25 e 26 maggio 2023\, negli storici locali del Teatro Donnafugata\, nel cuore barocco di Ragusa Ibla.\nPer venire incontro alle numerose richieste\, abbiamo accreditato l’evento anche in FAD e lo trasmetteremo in streaming. \n\nPartecipa in presenza al costo di 30 euro con 10 crediti ECM e specifica nella causale di pagamento l’ID 386291 con nome e cognome. \nPartecipa in streaming con 22\,5 crediti ECM al costo di 50 euro e specifica nella causale del versamento l’ID 386562 con nome e cognome.\nSiamo in attesa dell’accreditamento per gli AS.\n\n\nClicca per iscriverti: https://shorturl.at/uBRVX\nEffettua il pagamento su c/c intestato a Fenascop Sicilia – INTESA SANPAOLO IBAN:  IT64 X030 6984 4821 0000 0004 640\n\n  \nProgramma Modus \n  \nPer info: segreteria.sicilia@fenascop.it
URL:https://www.fenascop.it/event/modus-convegno-regionale-sui-disturbi-di-personalita/
LOCATION:Teatro Donnafugata Via Pietro Novelli\, 5 Ragusa Ibla (RG)
ATTACH;FMTTYPE=application/pdf:https://www.fenascop.it/wp-content/uploads/2023/04/Locandina-Modus.pdf
END:VEVENT
END:VCALENDAR