BEGIN:VCALENDAR
VERSION:2.0
PRODID:-//FENASCOP - ECPv6.7.0//NONSGML v1.0//EN
CALSCALE:GREGORIAN
METHOD:PUBLISH
X-WR-CALNAME:FENASCOP
X-ORIGINAL-URL:https://www.fenascop.it
X-WR-CALDESC:Eventi per FENASCOP
REFRESH-INTERVAL;VALUE=DURATION:PT1H
X-Robots-Tag:noindex
X-PUBLISHED-TTL:PT1H
BEGIN:VTIMEZONE
TZID:UTC
BEGIN:STANDARD
TZOFFSETFROM:+0000
TZOFFSETTO:+0000
TZNAME:UTC
DTSTART:20200101T000000
END:STANDARD
END:VTIMEZONE
BEGIN:VEVENT
DTSTART;VALUE=DATE:20200306
DTEND;VALUE=DATE:20200308
DTSTAMP:20260421T155014
CREATED:20200117T103707Z
LAST-MODIFIED:20200304T164119Z
UID:15540-1583452800-1583625599@www.fenascop.it
SUMMARY:ATTENZIONE\, EVENTO SPOSTATO A DATA DA DESTINARSI!! La Riabilitazione Psichiatrica in Sicilia
DESCRIPTION:FENASCOP SICILIA\nPRESENTA\nIII CONGRESSO REGIONALE \nPrima edizione “Nuccio Cappadona” \n“La riabilitazione psichiatrica in Sicilia: una visione che connetta passato\, presente e futuro”\n6 e 7 marzo 2020 Ragusa\, Mediterraneo Palace\n5\,6 CREDITI ECM\nProgramma Congresso Fenascop Sicilia\nQuota di partecipazione:  \n€ 30\,00 pro capite da versare a mezzo Bonifico Bancario a: Fenascop Sicilia    \nIBAN: IT64X0306984482100000004640  Banca Intesa San Paolo spa \nCausale: “Quota Iscrizione III Congresso Regionale Fenascop” \nPer maggiori informazioni consulta il programma \nPer iscrizioni:  http://www.fenascop.it/event/la-riabilitazione-psichiatrica-in-sicilia/
URL:https://www.fenascop.it/event/la-riabilitazione-psichiatrica-in-sicilia/
LOCATION:Hotel Mediterraneo Palace\, Via Roma\, 189\, Ragusa RG\, 97100
ORGANIZER;CN="FENASCOP SICILIA":MAILTO:segreteria.sicilia@fenascop.it
END:VEVENT
END:VCALENDAR