BEGIN:VCALENDAR
VERSION:2.0
PRODID:-//FENASCOP - ECPv6.7.0//NONSGML v1.0//EN
CALSCALE:GREGORIAN
METHOD:PUBLISH
X-WR-CALNAME:FENASCOP
X-ORIGINAL-URL:https://www.fenascop.it
X-WR-CALDESC:Eventi per FENASCOP
REFRESH-INTERVAL;VALUE=DURATION:PT1H
X-Robots-Tag:noindex
X-PUBLISHED-TTL:PT1H
BEGIN:VTIMEZONE
TZID:UTC
BEGIN:STANDARD
TZOFFSETFROM:+0000
TZOFFSETTO:+0000
TZNAME:UTC
DTSTART:20190101T000000
END:STANDARD
END:VTIMEZONE
BEGIN:VEVENT
DTSTART;TZID=UTC:20191004T200000
DTEND;TZID=UTC:20191005T190000
DTSTAMP:20260422T012948
CREATED:20190902T152449Z
LAST-MODIFIED:20190930T095420Z
UID:15334-1570219200-1570302000@www.fenascop.it
SUMMARY:IL RISENTIMENTO NELLA PRATICA CLINICA\, NELLA CULTURA E NELLA SOCIETA'
DESCRIPTION:CONVEGNO S.P.P. \nIL RISENTIMENTO NELLA PRATICA CLINICA\, NELLA CULTURA E NELLA  SOCIETA’ \n4 e 5 ottobre 2019 \nPacific Hotel Fortino\, Strada del Fortino\, 35 – Torino \n  \n  \n  \nDépliant – Il Risentimento
URL:https://www.fenascop.it/event/il-risentimento-nella-pratica-clinica-nella-cultura-e-nella-societa/
LOCATION:Pacific Hotel Fortino\, Strada del Fortino\, 36\, Torino\, 10152\, Italy
ORGANIZER;CN="Scuola di Psicoterapia Psicoanalitica":MAILTO:scuolapsicoterapiatorino@gmail.com
END:VEVENT
END:VCALENDAR