BEGIN:VCALENDAR
VERSION:2.0
PRODID:-//FENASCOP - ECPv6.7.0//NONSGML v1.0//EN
CALSCALE:GREGORIAN
METHOD:PUBLISH
X-WR-CALNAME:FENASCOP
X-ORIGINAL-URL:https://www.fenascop.it
X-WR-CALDESC:Eventi per FENASCOP
REFRESH-INTERVAL;VALUE=DURATION:PT1H
X-Robots-Tag:noindex
X-PUBLISHED-TTL:PT1H
BEGIN:VTIMEZONE
TZID:UTC
BEGIN:STANDARD
TZOFFSETFROM:+0000
TZOFFSETTO:+0000
TZNAME:UTC
DTSTART:20200101T000000
END:STANDARD
END:VTIMEZONE
BEGIN:VEVENT
DTSTART;VALUE=DATE:20200603
DTEND;VALUE=DATE:20200604
DTSTAMP:20260423T094157
CREATED:20200227T091700Z
LAST-MODIFIED:20200227T091700Z
UID:15694-1591142400-1591228799@www.fenascop.it
SUMMARY:MODELLI\, TECNICHE E PROCEDURE PER LA GESTIONE DEL PROGETTO DEL PAZIENTE IN COMUNITA' TERAPEUTICA
DESCRIPTION:LA COMUNITA’ TERAPEUTICO RIABILITATIVA PASSAGGI \nORGANIZZA C/O LA SEDE DI CARSOLI (AQ) IN VIA ROMA 111 IL  \nCORSO DI FORMAZIONE SUL CAMPO\n\n“MODELLI\, TECNICHE E PROCEDURE PER LA GESTIONE DEL PROGETTO DEL PAZIENTE IN COMUNITA’ TERAPEUTICA” \n\n14 INCONTRI A PARTIRE DAL 13 MARZO AL 18 NOVEMBRE 2020  \nPER UN TOTALE DI 42 ORE E 50 CREDITI ECM \nSESTO INCONTRO 03/06
URL:https://www.fenascop.it/event/modelli-tecniche-e-procedure-per-la-gestione-del-progetto-del-paziente-in-comunita-terapeutica-5/
LOCATION:Comunità Passaggi (sede legale)\, Via Roma 111\, Carsoli\, Aquila\, 67061
END:VEVENT
BEGIN:VEVENT
DTSTART;TZID=UTC:20200610T080000
DTEND;TZID=UTC:20200610T170000
DTSTAMP:20260423T094157
CREATED:20200227T092150Z
LAST-MODIFIED:20200227T092150Z
UID:15696-1591776000-1591808400@www.fenascop.it
SUMMARY:MODELLI\, TECNICHE E PROCEDURE PER LA GESTIONE DEL PROGETTO DEL PAZIENTE IN COMUNITA' TERAPEUTICA
DESCRIPTION:LA COMUNITA’ TERAPEUTICO RIABILITATIVA PASSAGGI \nORGANIZZA C/O LA SEDE DI CARSOLI (AQ) IN VIA ROMA 111 IL  \nCORSO DI FORMAZIONE SUL CAMPO\n\n“MODELLI\, TECNICHE E PROCEDURE PER LA GESTIONE DEL PROGETTO DEL PAZIENTE IN COMUNITA’ TERAPEUTICA” \n\n14 INCONTRI A PARTIRE DAL 13 MARZO AL 18 NOVEMBRE 2020  \nPER UN TOTALE DI 42 ORE E 50 CREDITI ECM \nSETTIMO INCONTRO 10/06
URL:https://www.fenascop.it/event/modelli-tecniche-e-procedure-per-la-gestione-del-progetto-del-paziente-in-comunita-terapeutica-6/
LOCATION:Comunità Passaggi (sede legale)\, Via Roma 111\, Carsoli\, Aquila\, 67061
END:VEVENT
BEGIN:VEVENT
DTSTART;VALUE=DATE:20200619
DTEND;VALUE=DATE:20200620
DTSTAMP:20260423T094157
CREATED:20200227T092523Z
LAST-MODIFIED:20200427T184029Z
UID:15698-1592524800-1592611199@www.fenascop.it
SUMMARY:MODELLI\, TECNICHE E PROCEDURE PER LA GESTIONE DEL PROGETTO DEL PAZIENTE IN COMUNITA' TERAPEUTICA
DESCRIPTION:Evento Cancellato!\nLA COMUNITA’ TERAPEUTICO RIABILITATIVA PASSAGGI \nORGANIZZA C/O LA SEDE DI CARSOLI (AQ) IN VIA ROMA 111 IL  \nCORSO DI FORMAZIONE SUL CAMPO\n\n“MODELLI\, TECNICHE E PROCEDURE PER LA GESTIONE DEL PROGETTO DEL PAZIENTE IN COMUNITA’ TERAPEUTICA” \n\n14 INCONTRI A PARTIRE DAL 13 MARZO AL 18 NOVEMBRE 2020  \nPER UN TOTALE DI 42 ORE E 50 CREDITI ECM \nOTTAVO INCONTRO 19/06
URL:https://www.fenascop.it/event/modelli-tecniche-e-procedure-per-la-gestione-del-progetto-del-paziente-in-comunita-terapeutica-7/
LOCATION:Comunità Passaggi (sede legale)\, Via Roma 111\, Carsoli\, Aquila\, 67061
END:VEVENT
END:VCALENDAR